BEGIN:VCALENDAR
VERSION:2.0
PRODID:-//école suisse de vitrail et création - ECPv6.10.1.1//NONSGML v1.0//EN
CALSCALE:GREGORIAN
METHOD:PUBLISH
X-WR-CALNAME:école suisse de vitrail et création
X-ORIGINAL-URL:https://ecolevitrail.com
X-WR-CALDESC:Évènements pour école suisse de vitrail et création
REFRESH-INTERVAL;VALUE=DURATION:PT1H
X-Robots-Tag:noindex
X-PUBLISHED-TTL:PT1H
BEGIN:VTIMEZONE
TZID:Europe/Paris
BEGIN:DAYLIGHT
TZOFFSETFROM:+0100
TZOFFSETTO:+0200
TZNAME:CEST
DTSTART:20260329T010000
END:DAYLIGHT
BEGIN:STANDARD
TZOFFSETFROM:+0200
TZOFFSETTO:+0100
TZNAME:CET
DTSTART:20261025T010000
END:STANDARD
END:VTIMEZONE
BEGIN:VEVENT
DTSTART;VALUE=DATE:20261107
DTEND;VALUE=DATE:20261109
DTSTAMP:20260420T072851
CREATED:20230828T080934Z
LAST-MODIFIED:20260119T105523Z
UID:10076-1794009600-1794182399@ecolevitrail.com
SUMMARY:STAGE: COLLAGE AU SILICONE
DESCRIPTION:La formation\n\n\n\n\n\nCe stage a pour but la composition d’un vitrail ou d’une partie de vitrail sans l’utilisation de sertissage au plomb. Le collage est une technique à froid qui consiste à fixer des verres plats rendus précieux par le polissage de leurs chants\, sur un verre support\, plat et généralement transparent. \nPourquoi utiliser le collage ?\nPour la décoration partielle du verre support et se procurer une certaine liberté dans la composition d’un vitrail. La superposition de verres de couleurs par collage permet d’augmenter sa palette grâce à de subtiles variations. \nProgramme du stage :\nAccueil.\nIntroduction théorique et technique (contraintes).\nÉlaboration d’un projet de petit format et correction\nCoupe des verres et polissage machine.\nMise en œuvre du collage.\nNettoyage et finitions.\nSécurité.\nAnalyse et conclusion de stage. \n\n\n\n\n\n\n\n\n\n\nInfos pratiques\n\n\n\n\n\nMaître de stage : Chihiro Nakamura – maître-verrier. \nPré-requis : connaissance de la coupe du verre. \nMatériel personnel : outillage usuel de vitrail (en cas de nécessité l’Ecole met à disposition l’outillage nécessaire). Petit matériel de bricolage. Bâtonnets à brochette. \nDate : \n\ndu 2 au 5 novembre 2026\ndu 7 au 8 novembre 2026 (format court)\n\nHoraires : vendredi\, samedi  de 9h à 16h30 et dimanche de 9h à 12h30 \n  \nPrix : Fr. 480.— (10% rabais aux membres de l’Association de l’Ecole) – y compris fournitures et outillage en prêt. \nNombre de participants : 4.
URL:https://ecolevitrail.com/calendrier/stage-collage-au-silicone/
LOCATION:Ecole Suisse de vitrail et Cration\, Monthey\, 1870\, Suisse
CATEGORIES:Stage vitrail au plomb
ORGANIZER;CN="Ecole Suisse de vitrail et Cration":MAILTO:ecole.vitrail@bluewin.ch
END:VEVENT
END:VCALENDAR