BEGIN:VCALENDAR
VERSION:2.0
PRODID:-//école suisse de vitrail et création - ECPv6.10.1.1//NONSGML v1.0//EN
CALSCALE:GREGORIAN
METHOD:PUBLISH
X-WR-CALNAME:école suisse de vitrail et création
X-ORIGINAL-URL:https://ecolevitrail.com
X-WR-CALDESC:Évènements pour école suisse de vitrail et création
REFRESH-INTERVAL;VALUE=DURATION:PT1H
X-Robots-Tag:noindex
X-PUBLISHED-TTL:PT1H
BEGIN:VTIMEZONE
TZID:Europe/Paris
BEGIN:DAYLIGHT
TZOFFSETFROM:+0100
TZOFFSETTO:+0200
TZNAME:CEST
DTSTART:20230326T010000
END:DAYLIGHT
BEGIN:STANDARD
TZOFFSETFROM:+0200
TZOFFSETTO:+0100
TZNAME:CET
DTSTART:20231029T010000
END:STANDARD
END:VTIMEZONE
BEGIN:VEVENT
DTSTART;VALUE=DATE:20231118
DTEND;VALUE=DATE:20231119
DTSTAMP:20260419T220659
CREATED:20230828T101947Z
LAST-MODIFIED:20230828T102451Z
UID:10179-1700265600-1700351999@ecolevitrail.com
SUMMARY:PORTES OUVERTES
DESCRIPTION: 
URL:https://ecolevitrail.com/calendrier/portes-ouvertes/
LOCATION:Ecole Suisse de vitrail et Cration\, Monthey\, 1870\, Suisse
CATEGORIES:Stage vitrail au plomb
ORGANIZER;CN="Ecole Suisse de vitrail et Cration":MAILTO:ecole.vitrail@bluewin.ch
END:VEVENT
END:VCALENDAR